{ "currentVersion": 11.5, "cimVersion": "3.5.0", "serviceDescription": "
This data set is one component of a digital terrain model (DTM) for St. Johns County. The dataset is comprised of mass points, 2-D and 3-D breakline features, 1-foot and 2-foot contours, ground control, vertical test points, and a footprint of the data set, in the ESRI ArcGIS File Geodatabase format. In accordance with the counties specifications, the following breakline features are contained within the database: closed water bodies (lakes, reservoirs, etc) as 3-D polygons; linear hydrographic features (streams, shorelines, canals, swales, embankments, etc) as 3-D breaklines; coastal shorelines as 3-D linear features; edge of pavement road features as 3-D breaklines; soft features (ridges, valleys, etc.) as 3-D breaklines; island features as 3-D polygons; concretedam, culvert, footprint, lowconfidence, lowconfidenceanno, overpass, pipe, roadcenterlineoverbridge and swamppoint as 2-D features. Contours were generated from LiDAR ground class and breaklines and meet National Map Accuracy Standards. The LiDAR masspoints are delivered in the LAS file format based on the Florida statewide 5,000' by 5,000' grid. Breakline features were captured to develop a hydrologically correct DTM. The GEOID model used to reduce satellite derived elevations to orthometric height is GEOID12A. The coastalshoreline has a constant value of -0.6\u2019 that was statistically derived from the LiDAR point cloud collected within the 2-hour window of MLL tide. 2008 Hydrographic and soft features were used to supplement the 2019 breaklines in Low Confidence areas.<\/SPAN><\/P><\/DIV><\/DIV><\/DIV>",
"mapName": "Map",
"description": " This data set is one component of a digital terrain model (DTM) for St. Johns County. The dataset is comprised of mass points, 2-D and 3-D breakline features, 1-foot and 2-foot contours, ground control, vertical test points, and a footprint of the data set, in the ESRI ArcGIS File Geodatabase format. In accordance with the counties specifications, the following breakline features are contained within the database: closed water bodies (lakes, reservoirs, etc) as 3-D polygons; linear hydrographic features (streams, shorelines, canals, swales, embankments, etc) as 3-D breaklines; coastal shorelines as 3-D linear features; edge of pavement road features as 3-D breaklines; soft features (ridges, valleys, etc.) as 3-D breaklines; island features as 3-D polygons; concretedam, culvert, footprint, lowconfidence, lowconfidenceanno, overpass, pipe, roadcenterlineoverbridge and swamppoint as 2-D features. Contours were generated from LiDAR ground class and breaklines and meet National Map Accuracy Standards. The LiDAR masspoints are delivered in the LAS file format based on the Florida statewide 5,000' by 5,000' grid. Breakline features were captured to develop a hydrologically correct DTM. The GEOID model used to reduce satellite derived elevations to orthometric height is GEOID12A. The coastalshoreline has a constant value of -0.6\u2019 that was statistically derived from the LiDAR point cloud collected within the 2-hour window of MLL tide. 2008 Hydrographic and soft features were used to supplement the 2019 breaklines in Low Confidence areas.<\/SPAN><\/P><\/DIV><\/DIV><\/DIV>",
"copyrightText": "Data content is created and/or maintained by the St. Johns County GIS Division and Woolpert, Inc.",
"supportsDynamicLayers": true,
"layers": [
{
"id": 0,
"name": "Elevation Contours 2019",
"parentLayerId": -1,
"defaultVisibility": true,
"subLayerIds": null,
"minScale": 24000,
"maxScale": 0,
"type": "Feature Layer",
"geometryType": "esriGeometryPolyline",
"supportsDynamicLegends": true
}
],
"tables": [],
"spatialReference": {
"wkid": 102100,
"latestWkid": 3857,
"xyTolerance": 0.001,
"zTolerance": 0.001,
"mTolerance": 0.001,
"falseX": -20037700,
"falseY": -30241100,
"xyUnits": 10000,
"falseZ": -100000,
"zUnits": 10000,
"falseM": -100000,
"mUnits": 10000
},
"singleFusedMapCache": true,
"tileInfo": {
"rows": 256,
"cols": 256,
"dpi": 96,
"format": "PNG",
"compressionQuality": 0,
"origin": {
"x": -2.0037508342787E7,
"y": 2.0037508342787E7
},
"spatialReference": {
"wkid": 102100,
"latestWkid": 3857,
"xyTolerance": 0.001,
"zTolerance": 0.001,
"mTolerance": 0.001,
"falseX": -20037700,
"falseY": -30241100,
"xyUnits": 1.4892314192838538E8,
"falseZ": -100000,
"zUnits": 10000,
"falseM": -100000,
"mUnits": 10000
},
"lods": [
{
"level": 0,
"resolution": 156543.033928,
"scale": 5.91657527591555E8
},
{
"level": 1,
"resolution": 78271.5169639999,
"scale": 2.95828763795777E8
},
{
"level": 2,
"resolution": 39135.7584820001,
"scale": 1.47914381897889E8
},
{
"level": 3,
"resolution": 19567.8792409999,
"scale": 7.3957190948944E7
},
{
"level": 4,
"resolution": 9783.93962049996,
"scale": 3.6978595474472E7
},
{
"level": 5,
"resolution": 4891.96981024998,
"scale": 1.8489297737236E7
},
{
"level": 6,
"resolution": 2445.98490512499,
"scale": 9244648.868618
},
{
"level": 7,
"resolution": 1222.99245256249,
"scale": 4622324.434309
},
{
"level": 8,
"resolution": 611.49622628138,
"scale": 2311162.217155
},
{
"level": 9,
"resolution": 305.748113140558,
"scale": 1155581.108577
},
{
"level": 10,
"resolution": 152.874056570411,
"scale": 577790.554289
},
{
"level": 11,
"resolution": 76.4370282850732,
"scale": 288895.277144
},
{
"level": 12,
"resolution": 38.2185141425366,
"scale": 144447.638572
},
{
"level": 13,
"resolution": 19.1092570712683,
"scale": 72223.819286
},
{
"level": 14,
"resolution": 9.55462853563415,
"scale": 36111.909643
},
{
"level": 15,
"resolution": 4.77731426794937,
"scale": 18055.954822
},
{
"level": 16,
"resolution": 2.38865713397468,
"scale": 9027.977411
},
{
"level": 17,
"resolution": 1.19432856685505,
"scale": 4513.988705
},
{
"level": 18,
"resolution": 0.597164283559817,
"scale": 2256.994353
},
{
"level": 19,
"resolution": 0.298582141647617,
"scale": 1128.497176
},
{
"level": 20,
"resolution": 0.14929107082380833,
"scale": 564.248588
},
{
"level": 21,
"resolution": 0.07464553541190416,
"scale": 282.124294
},
{
"level": 22,
"resolution": 0.03732276770595208,
"scale": 141.062147
},
{
"level": 23,
"resolution": 0.01866138385297604,
"scale": 70.5310735
}
]
},
"storageInfo": {
"storageFormat": "esriMapCacheStorageModeCompactV2",
"packetSize": 128
},
"initialExtent": {
"xmin": -9049646.573133739,
"ymin": 3459598.5213289647,
"xmax": -9048006.924670441,
"ymax": 3460752.309492541,
"spatialReference": {
"wkid": 102100,
"latestWkid": 3857,
"xyTolerance": 0.001,
"zTolerance": 0.001,
"mTolerance": 0.001,
"falseX": -20037700,
"falseY": -30241100,
"xyUnits": 10000,
"falseZ": -100000,
"zUnits": 10000,
"falseM": -100000,
"mUnits": 10000
}
},
"fullExtent": {
"xmin": -9091402.6326,
"ymin": 3454036.5062000006,
"xmax": -9040517.2472,
"ymax": 3537125.5591999963,
"spatialReference": {
"wkid": 102100,
"latestWkid": 3857,
"xyTolerance": 0.001,
"zTolerance": 0.001,
"mTolerance": 0.001,
"falseX": -20037700,
"falseY": -30241100,
"xyUnits": 10000,
"falseZ": -100000,
"zUnits": 10000,
"falseM": -100000,
"mUnits": 10000
}
},
"datesInUnknownTimezone": false,
"minScale": 9244648.868618,
"maxScale": 564.248588,
"minLOD": 6,
"maxLOD": 20,
"units": "esriMeters",
"supportedImageFormatTypes": "PNG32,PNG24,PNG,JPG,DIB,TIFF,EMF,PS,PDF,GIF,SVG,SVGZ,BMP",
"documentInfo": {
"Title": "I:\\Shared\\ArcEnterprise_APRX\\Contours\\Contour_2019\\Contour_2019.aprx",
"Author": "",
"Comments": "",
"Subject": "",
"Category": "",
"Version": "2.9.0",
"AntialiasingMode": "Fast",
"TextAntialiasingMode": "Force",
"Keywords": "Terrain,Florida,United States,Contours,St. Johns County"
},
"supportsQueryDomains": true,
"capabilities": "Map,Query,Data",
"supportedQueryFormats": "JSON, geoJSON, PBF",
"exportTilesAllowed": false,
"referenceScale": 0.0,
"datumTransformations": [
{
"geoTransforms": [
{
"wkid": 108190,
"latestWkid": 108190,
"transformForward": false,
"name": "WGS_1984_(ITRF00)_To_NAD_1983"
}
]
},
{
"geoTransforms": [
{
"wkid": 108190,
"latestWkid": 108190,
"transformForward": true,
"name": "WGS_1984_(ITRF00)_To_NAD_1983"
}
]
},
{
"geoTransforms": [
{
"wkid": 1900,
"latestWkid": 1900,
"transformForward": true,
"name": "NAD_1983_HARN_To_WGS_1984_2"
}
]
},
{
"geoTransforms": [
{
"wkid": 1900,
"latestWkid": 1900,
"transformForward": false,
"name": "NAD_1983_HARN_To_WGS_1984_2"
}
]
}
],
"supportsDatumTransformation": true,
"floorAwareMapProperties": {
"defaultFloorFilterSettings": {"isEnabled": false}
},
"archivingInfo": {"supportsHistoricMoment": false},
"supportsClipping": true,
"supportsSpatialFilter": true,
"supportsTimeRelation": true,
"supportsQueryDataElements": true,
"mapUnits": {"uwkid": 9001},
"maxSelectionCount": 2000,
"maxRecordCount": 2000,
"maxImageHeight": 4096,
"maxImageWidth": 4096,
"supportedExtensions": "",
"serviceItemId": "4b1a4b2f5be049a9913248a977354abe"
}